BEGIN:VCALENDAR
VERSION:2.0
PRODID:-//SpectaChoral - In 80 Minuten um die Welt - ECPv5.16.4//NONSGML v1.0//EN
CALSCALE:GREGORIAN
METHOD:PUBLISH
X-WR-CALNAME:SpectaChoral - In 80 Minuten um die Welt
X-ORIGINAL-URL:https://spectachoral.com
X-WR-CALDESC:Veranstaltungen für SpectaChoral - In 80 Minuten um die Welt
BEGIN:VTIMEZONE
TZID:UTC
BEGIN:STANDARD
TZOFFSETFROM:+0000
TZOFFSETTO:+0000
TZNAME:UTC
DTSTART:20200101T000000
END:STANDARD
END:VTIMEZONE
BEGIN:VEVENT
DTSTART;TZID=UTC:20200229T100000
DTEND;TZID=UTC:20200229T160000
DTSTAMP:20260421T103015
CREATED:20191210T154634Z
LAST-MODIFIED:20200114T154503Z
UID:686-1582970400-1582992000@spectachoral.com
SUMMARY:Cajon-Workshop in Meißen
DESCRIPTION:Erlernen von Spieltechniken und Rhythmen in verschiedenen Stilen\nLiedbegleitung von z.B. Posaunenchören\nArbeit mit zusätzlichen Percussioninstrumenten\nCajon wird gestellt\, gern eigenes Instrument mitbringen\nAnmeldung bis zum 10.02.2020 auf der Seite der Sächsischen Posaunenmission
URL:https://spectachoral.com/event/cajon-workshop-in-meissen/
LOCATION:Meißen-Zscheila
CATEGORIES:Workshops
END:VEVENT
END:VCALENDAR